BEGIN:VCALENDAR
VERSION:2.0
PRODID:-//wp-events-plugin.com//7.2.3.1//EN
TZID:America/New_York
X-WR-TIMEZONE:America/New_York
BEGIN:VEVENT
UID:141@adaptation-fund.org
DTSTART;TZID=America/New_York:20151130T060000
DTEND;TZID=America/New_York:20151130T060000
DTSTAMP:20260313T175645Z
URL:https://www.adaptation-fund.org/event/cop21-unfccc-climate-change-conf
 erence/
SUMMARY:COP21 UNFCCC Climate Change Conference
DESCRIPTION:
CATEGORIES:Global Events
LOCATION:Paris\, France\, Le Bourget\, France\, Le Bourget\, France\, Île-
 de-France\, France
X-APPLE-STRUCTURED-LOCATION;VALUE=URI;X-ADDRESS=Le Bourget\, France\, Le Bo
 urget\, France\, Île-de-France\, France;X-APPLE-RADIUS=100;X-TITLE=Paris\
 , France:geo:0,0
END:VEVENT
BEGIN:VTIMEZONE
TZID:America/New_York
X-LIC-LOCATION:America/New_York
BEGIN:STANDARD
DTSTART:20151101T010000
TZOFFSETFROM:-0400
TZOFFSETTO:-0500
TZNAME:EST
END:STANDARD
END:VTIMEZONE
END:VCALENDAR