BEGIN:VCALENDAR
VERSION:2.0
PRODID:-//wp-events-plugin.com//7.2.3.1//EN
TZID:America/New_York
X-WR-TIMEZONE:America/New_York
BEGIN:VEVENT
UID:88@adaptation-fund.org
DTSTART;TZID=America/New_York:20161107T060000
DTEND;TZID=America/New_York:20161107T060000
DTSTAMP:20260313T175645Z
URL:https://www.adaptation-fund.org/event/cop22-adaptation-fund-multimedia
 -exhibit/
SUMMARY:COP22: Adaptation Fund Multimedia Exhibit
DESCRIPTION:The Adaptation Fund showcases adaptation projects in developing
  countries and shares implementing entity experiences on the Direct Access
  modality. The exhibit also includes the winning photos of the AF Photo Co
 ntest that tell the story of adaptation on coastal regions and watersheds.
  The exhibit will feature a new documentary about the Fund’s project in 
 Morocco with footage from the field\, as well as a new photo exhibit featu
 ring Adaptation Fund projects and implementing entities in action from aro
 und the world.
CATEGORIES:Adaptation Fund Events
END:VEVENT
BEGIN:VTIMEZONE
TZID:America/New_York
X-LIC-LOCATION:America/New_York
BEGIN:STANDARD
DTSTART:20161106T010000
TZOFFSETFROM:-0400
TZOFFSETTO:-0500
TZNAME:EST
END:STANDARD
END:VTIMEZONE
END:VCALENDAR