BEGIN:VCALENDAR
VERSION:2.0
PRODID:-//wp-events-plugin.com//7.2.3.1//EN
TZID:America/New_York
X-WR-TIMEZONE:America/New_York
BEGIN:VEVENT
UID:5@adaptation-fund.org
DTSTART;TZID=America/New_York:20251110T060000
DTEND;TZID=America/New_York:20251110T060000
DTSTAMP:20260313T175644Z
URL:https://www.adaptation-fund.org/event/cop30-un-climate-change-conferen
 ce/
SUMMARY:COP30 UN Climate Change Conference
DESCRIPTION:COP30\, the UN Climate Change Conference will be held on Novemb
 er 10-21\, 2025 in Belém\, Brazil.\n\nMore information about the prescenc
 e and engagement of the Adaptation Fund will be published on this website.
 \n\nRead more about COP30 on the official COP30 presidency website: cop30.
 br.
CATEGORIES:Global Events
LOCATION:Belém\, Pará\, Brazil\, \, 
X-APPLE-STRUCTURED-LOCATION;VALUE=URI;X-ADDRESS=\, ;X-APPLE-RADIUS=100;X-TI
 TLE=Belém\, Pará\, Brazil:geo:0,0
END:VEVENT
BEGIN:VTIMEZONE
TZID:America/New_York
X-LIC-LOCATION:America/New_York
BEGIN:STANDARD
DTSTART:20251102T010000
TZOFFSETFROM:-0400
TZOFFSETTO:-0500
TZNAME:EST
END:STANDARD
END:VTIMEZONE
END:VCALENDAR