BEGIN:VCALENDAR
VERSION:2.0
PRODID:-//wp-events-plugin.com//7.2.3.1//EN
TZID:America/New_York
X-WR-TIMEZONE:America/New_York
BEGIN:VEVENT
UID:18@adaptation-fund.org
DTSTART;TZID=America/New_York:20210419T150000
DTEND;TZID=America/New_York:20210419T170000
DTSTAMP:20260313T175644Z
URL:https://www.adaptation-fund.org/event/country-exchange-with-nies-to-pr
 ovide-additional-technical-support-during-project-programme-implementation
 -virtual/
SUMMARY:Country exchange with NIEs to provide additional technical support 
 during project/programme implementation - Virtual
DESCRIPTION:
END:VEVENT
BEGIN:VTIMEZONE
TZID:America/New_York
X-LIC-LOCATION:America/New_York
BEGIN:DAYLIGHT
DTSTART:20210314T030000
TZOFFSETFROM:-0500
TZOFFSETTO:-0400
TZNAME:EDT
END:DAYLIGHT
END:VTIMEZONE
END:VCALENDAR