BEGIN:VCALENDAR
VERSION:2.0
PRODID:-//wp-events-plugin.com//7.2.3.1//EN
TZID:America/New_York
X-WR-TIMEZONE:America/New_York
BEGIN:VEVENT
UID:142@adaptation-fund.org
DTSTART;TZID=America/New_York:20151215T060000
DTEND;TZID=America/New_York:20151215T060000
DTSTAMP:20260313T175645Z
URL:https://www.adaptation-fund.org/event/deadline-for-new-applicants-for-
 consideration-at-the-21st-accreditation-panel-meeting/
SUMMARY:Deadline for new applicants for consideration at the 21st Accredita
 tion Panel Meeting
DESCRIPTION:
CATEGORIES:Adaptation Fund Events
END:VEVENT
BEGIN:VTIMEZONE
TZID:America/New_York
X-LIC-LOCATION:America/New_York
BEGIN:STANDARD
DTSTART:20151101T010000
TZOFFSETFROM:-0400
TZOFFSETTO:-0500
TZNAME:EST
END:STANDARD
END:VTIMEZONE
END:VCALENDAR