BEGIN:VCALENDAR
VERSION:2.0
PRODID:-//wp-events-plugin.com//7.2.3.1//EN
TZID:America/New_York
X-WR-TIMEZONE:America/New_York
BEGIN:VEVENT
UID:160@adaptation-fund.org
DTSTART;TZID=America/New_York:20170109T060000
DTEND;TZID=America/New_York:20170109T060000
DTSTAMP:20260313T175645Z
URL:https://www.adaptation-fund.org/event/deadline-for-proposal-submission
 s-to-the-29th-afb-meeting/
SUMMARY:Deadline for Proposal Submissions to the 29th AFB meeting
DESCRIPTION:The deadline for project/programme proposal submissions to the 
 29th Adaptation Fund Board meeting is January 9\, 2017. View application i
 nstructions here.
CATEGORIES:Adaptation Fund Events
END:VEVENT
BEGIN:VTIMEZONE
TZID:America/New_York
X-LIC-LOCATION:America/New_York
BEGIN:STANDARD
DTSTART:20161106T010000
TZOFFSETFROM:-0400
TZOFFSETTO:-0500
TZNAME:EST
END:STANDARD
END:VTIMEZONE
END:VCALENDAR