BEGIN:VCALENDAR
VERSION:2.0
PRODID:-//wp-events-plugin.com//7.2.3.1//EN
TZID:America/New_York
X-WR-TIMEZONE:America/New_York
BEGIN:VEVENT
UID:22@adaptation-fund.org
DTSTART;TZID=America/New_York:20210119T000000
DTEND;TZID=America/New_York:20210119T001500
DTSTAMP:20260313T175644Z
URL:https://www.adaptation-fund.org/event/deadline-for-proposal-submission
 s-to-the-36th-afb-meeting/
SUMMARY:Deadline for Proposal Submissions to the 36th AFB Meeting
DESCRIPTION:This includes proposals for smalls grants for Innovation\, Lear
 ning and Project scale-up.
CATEGORIES:Adaptation Fund Events
END:VEVENT
BEGIN:VTIMEZONE
TZID:America/New_York
X-LIC-LOCATION:America/New_York
BEGIN:STANDARD
DTSTART:20201101T010000
TZOFFSETFROM:-0400
TZOFFSETTO:-0500
TZNAME:EST
END:STANDARD
END:VTIMEZONE
END:VCALENDAR