BEGIN:VCALENDAR
VERSION:2.0
PRODID:-//wp-events-plugin.com//7.2.3.1//EN
TZID:America/New_York
X-WR-TIMEZONE:America/New_York
BEGIN:VEVENT
UID:14@adaptation-fund.org
DTSTART;TZID=America/New_York:20220809T000000
DTEND;TZID=America/New_York:20220809T001500
DTSTAMP:20260313T175644Z
URL:https://www.adaptation-fund.org/event/deadline-for-proposal-submission
 s-to-the-39th-afb-meeting/
SUMMARY:Deadline for Proposal Submissions to the 39th AFB Meeting
DESCRIPTION:This includes proposals for Regular Single-Country and Regional
  Projects\, Large Innovation Projects\, Smalls Grants for Innovation\, Lea
 rning\, and Project scale-up.
CATEGORIES:Adaptation Fund Events
END:VEVENT
BEGIN:VTIMEZONE
TZID:America/New_York
X-LIC-LOCATION:America/New_York
BEGIN:DAYLIGHT
DTSTART:20220313T030000
TZOFFSETFROM:-0500
TZOFFSETTO:-0400
TZNAME:EDT
END:DAYLIGHT
END:VTIMEZONE
END:VCALENDAR