BEGIN:VCALENDAR
VERSION:2.0
PRODID:-//wp-events-plugin.com//7.2.3.1//EN
TZID:America/New_York
X-WR-TIMEZONE:America/New_York
BEGIN:VEVENT
UID:150@adaptation-fund.org
DTSTART;TZID=America/New_York:20160411T060000
DTEND;TZID=America/New_York:20160411T060000
DTSTAMP:20260313T175645Z
URL:https://www.adaptation-fund.org/event/deadline-for-proposal-submission
 s-to-the-intersessional-review-cycle-between-the-27th-and-28th-meetings/
SUMMARY:Deadline for proposal submissions to the Intersessional review cycl
 e between the 27th and 28th meetings
DESCRIPTION:
CATEGORIES:Adaptation Fund Events
END:VEVENT
BEGIN:VTIMEZONE
TZID:America/New_York
X-LIC-LOCATION:America/New_York
BEGIN:DAYLIGHT
DTSTART:20160313T030000
TZOFFSETFROM:-0500
TZOFFSETTO:-0400
TZNAME:EDT
END:DAYLIGHT
END:VTIMEZONE
END:VCALENDAR