BEGIN:VCALENDAR
VERSION:2.0
PRODID:-//wp-events-plugin.com//7.2.3.1//EN
TZID:America/New_York
X-WR-TIMEZONE:America/New_York
BEGIN:VEVENT
UID:17@adaptation-fund.org
DTSTART;TZID=America/New_York:20220111T000000
DTEND;TZID=America/New_York:20220111T001500
DTSTAMP:20260313T175644Z
URL:https://www.adaptation-fund.org/event/deadline-for-submission-of-propo
 sals-for-the-adaptation-fund-boards-considerations-at-its-38th-board-meeti
 ng/
SUMMARY:Deadline for submission of proposals for the Adaptation Fund Board'
 s considerations at its 38th Board meeting
DESCRIPTION:The next deadline for submission of project and programme propo
 sals is January 10\, 2022 at 18:00 (Washington DC time) for the Adaptat
 ion Fund Board’s consideration at its 38th Board meeting. Proposals may
  be submitted as early as January 3\, 2022.\n\nThis includes submissions 
 of innovation\, learning and project scale-up grant proposals.
CATEGORIES:Adaptation Fund Events
END:VEVENT
BEGIN:VTIMEZONE
TZID:America/New_York
X-LIC-LOCATION:America/New_York
BEGIN:STANDARD
DTSTART:20211107T010000
TZOFFSETFROM:-0400
TZOFFSETTO:-0500
TZNAME:EST
END:STANDARD
END:VTIMEZONE
END:VCALENDAR