BEGIN:VCALENDAR
VERSION:2.0
PRODID:-//wp-events-plugin.com//7.2.3.1//EN
TZID:America/New_York
X-WR-TIMEZONE:America/New_York
BEGIN:VEVENT
UID:21@adaptation-fund.org
DTSTART;TZID=America/New_York:20210427T000000
DTEND;TZID=America/New_York:20210427T001500
DTSTAMP:20260313T175644Z
URL:https://www.adaptation-fund.org/event/deadline-for-submission-of-propo
 sals-for-the-adaptation-fund-boards-considerations-at-its-intersessional-3
 6th-37th-board-meeting/
SUMMARY:Deadline for submission of proposals for the Adaptation Fund Board
 ’s considerations at its Intersessional 36th-37th Board meeting
DESCRIPTION:The next deadline for submission of project and programme propo
 sals is April 26\, 2021 at 18:00 (Washington DC time) for the Adaptation
  Fund Board’s consideration at its Intersessional 36th-37th Board meetin
 g. Proposals may be submitted as early as April 19\, 2021.\n\nThis includ
 es submissions of innovation\, learning and project scale up grant proposa
 ls.
CATEGORIES:Adaptation Fund Events
END:VEVENT
BEGIN:VTIMEZONE
TZID:America/New_York
X-LIC-LOCATION:America/New_York
BEGIN:DAYLIGHT
DTSTART:20210314T030000
TZOFFSETFROM:-0500
TZOFFSETTO:-0400
TZNAME:EDT
END:DAYLIGHT
END:VTIMEZONE
END:VCALENDAR