BEGIN:VCALENDAR
VERSION:2.0
PRODID:-//wp-events-plugin.com//7.2.3.1//EN
TZID:America/New_York
X-WR-TIMEZONE:America/New_York
BEGIN:VEVENT
UID:15@adaptation-fund.org
DTSTART;TZID=America/New_York:20220503T000000
DTEND;TZID=America/New_York:20220503T001500
DTSTAMP:20260313T175644Z
URL:https://www.adaptation-fund.org/event/deadline-for-submission-of-propo
 sals-for-the-adaptation-fund-boards-considerations-at-its-intersessional-3
 8th-39th-board-meeting/
SUMMARY:Deadline For Submission Of Proposals For The Adaptation Fund Board
 ’s Considerations At Its Intersessional 38th-39th Board Meeting
DESCRIPTION:The next deadline for submission of project and programme propo
 sals is May 2\, 2022 at 18:00 (Washington DC time) for the Adaptation Fu
 nd Board’s consideration at its Intersessional 38th-39th Board meeting. 
 Proposals may be submitted as early as April 22\, 2022.\n\nOnly single-co
 untry and regional project and programme proposals that are not first-subm
 issions will be accepted.
CATEGORIES:Adaptation Fund Events
END:VEVENT
BEGIN:VTIMEZONE
TZID:America/New_York
X-LIC-LOCATION:America/New_York
BEGIN:DAYLIGHT
DTSTART:20220313T030000
TZOFFSETFROM:-0500
TZOFFSETTO:-0400
TZNAME:EDT
END:DAYLIGHT
END:VTIMEZONE
END:VCALENDAR