BEGIN:VCALENDAR
VERSION:2.0
PRODID:-//wp-events-plugin.com//7.2.3.1//EN
TZID:America/New_York
X-WR-TIMEZONE:America/New_York
BEGIN:VEVENT
UID:114@adaptation-fund.org
DTSTART;TZID=America/New_York:20111211T060000
DTEND;TZID=America/New_York:20111211T060000
DTSTAMP:20260313T175645Z
URL:https://www.adaptation-fund.org/event/dialogue-with-civil-society/
SUMMARY:Dialogue with Civil Society
DESCRIPTION:The Adaptation Fund Board landmark decision to start a dialogue
  with civil society\, which was taken during its 12th Board meeting last D
 ecember in Cancun\, initiated an exchange of information and ideas. The Bo
 ard remains committed to continuing and furthering this discourse. Respond
 ing to requests from civil society to expand on this dialogue\, the Board 
 would like to take the opportunity of the UNFCCC COP17 back to back with t
 he 16th Adaptation Fund Board meeting to hold a dedicated session for civi
 l society.  This will allow the Board more time to engage with civil soci
 ety directly and would also provide the Board with inputs before starting 
 deliberations.\n\nTime &amp\; Date: 19:00-21:00\, Sunday\, December 11\, 2
 011\nVenue: Protea Hotel Umhlanga Ridge (14 Palm Boulevard\, Umhlanga Ridg
 e\, Umhlanga Rocks\, 4320\, South Africa)
CATEGORIES:Adaptation Fund Events
LOCATION:South Africa\, \, 
X-APPLE-STRUCTURED-LOCATION;VALUE=URI;X-ADDRESS=\, ;X-APPLE-RADIUS=100;X-TI
 TLE=South Africa:geo:0,0
END:VEVENT
BEGIN:VTIMEZONE
TZID:America/New_York
X-LIC-LOCATION:America/New_York
BEGIN:STANDARD
DTSTART:20111106T010000
TZOFFSETFROM:-0400
TZOFFSETTO:-0500
TZNAME:EST
END:STANDARD
END:VTIMEZONE
END:VCALENDAR