BEGIN:VCALENDAR
VERSION:2.0
PRODID:-//wp-events-plugin.com//7.2.3.1//EN
TZID:America/New_York
X-WR-TIMEZONE:America/New_York
BEGIN:VEVENT
UID:139@adaptation-fund.org
DTSTART;TZID=America/New_York:20151115T060000
DTEND;TZID=America/New_York:20151115T060000
DTSTAMP:20260313T175645Z
URL:https://www.adaptation-fund.org/event/g20-meeting-leaders-summit/
SUMMARY:G20 Meeting - Leaders' Summit
DESCRIPTION:
CATEGORIES:Global Events
LOCATION:Antalya\, Turkey\, Antalya\, Antalya\, Turkey\, Antalya\, Turkey\,
  Antalya\, Turkey
X-APPLE-STRUCTURED-LOCATION;VALUE=URI;X-ADDRESS=Antalya\, Antalya\, Turkey\
 , Antalya\, Turkey\, Antalya\, Turkey;X-APPLE-RADIUS=100;X-TITLE=Antalya\,
  Turkey:geo:0,0
END:VEVENT
BEGIN:VTIMEZONE
TZID:America/New_York
X-LIC-LOCATION:America/New_York
BEGIN:STANDARD
DTSTART:20151101T010000
TZOFFSETFROM:-0400
TZOFFSETTO:-0500
TZNAME:EST
END:STANDARD
END:VTIMEZONE
END:VCALENDAR