BEGIN:VCALENDAR
VERSION:2.0
PRODID:-//wp-events-plugin.com//7.2.3.1//EN
TZID:America/New_York
X-WR-TIMEZONE:America/New_York
BEGIN:VEVENT
UID:148@adaptation-fund.org
DTSTART;TZID=America/New_York:20160308T060000
DTEND;TZID=America/New_York:20160308T060000
DTSTAMP:20260313T175645Z
URL:https://www.adaptation-fund.org/event/green-climate-fund-board-meeting
 /
SUMMARY:Green Climate Fund Board Meeting
DESCRIPTION:
CATEGORIES:Global Events
LOCATION:Songdo\, South Korea\, Songdo-dong\, Yeonsu-gu\, Incheon\, South K
 orea\, Incheon\, South Korea\, 406-840\, South Korea
X-APPLE-STRUCTURED-LOCATION;VALUE=URI;X-ADDRESS=Songdo-dong\, Yeonsu-gu\, I
 ncheon\, South Korea\, Incheon\, South Korea\, 406-840\, South Korea;X-APP
 LE-RADIUS=100;X-TITLE=Songdo\, South Korea:geo:0,0
END:VEVENT
BEGIN:VTIMEZONE
TZID:America/New_York
X-LIC-LOCATION:America/New_York
BEGIN:STANDARD
DTSTART:20151101T010000
TZOFFSETFROM:-0400
TZOFFSETTO:-0500
TZNAME:EST
END:STANDARD
END:VTIMEZONE
END:VCALENDAR