BEGIN:VCALENDAR
VERSION:2.0
PRODID:-//wp-events-plugin.com//7.2.3.1//EN
TZID:America/New_York
X-WR-TIMEZONE:America/New_York
BEGIN:VEVENT
UID:151@adaptation-fund.org
DTSTART;TZID=America/New_York:20160422T060000
DTEND;TZID=America/New_York:20160422T060000
DTSTAMP:20260313T175645Z
URL:https://www.adaptation-fund.org/event/high-level-signing-ceremony-for-
 paris-agreement/
SUMMARY:High-Level Signing Ceremony for Paris Agreement
DESCRIPTION:A high-level signing ceremony\, convened by UN Secretary-Genera
 l Ban Ki-moon\, will take place as a first step in implementing the Paris 
 Agreement\, which was adopted in Paris\, France\, on 12 December 2015. Th
 e Agreement will then be open for signature in New York\, US\, until 17 Ap
 ril 2017.
CATEGORIES:Global Events
LOCATION:UN Headquarters\, 801 1st Avenue\, New York\, NY 10017\, USA\, New
  York\, United States\, 10017\, New York\, United States
X-APPLE-STRUCTURED-LOCATION;VALUE=URI;X-ADDRESS=801 1st Avenue\, New York\,
  NY 10017\, USA\, New York\, United States\, 10017\, New York\, United Sta
 tes;X-APPLE-RADIUS=100;X-TITLE=UN Headquarters:geo:0,0
END:VEVENT
BEGIN:VTIMEZONE
TZID:America/New_York
X-LIC-LOCATION:America/New_York
BEGIN:DAYLIGHT
DTSTART:20160313T030000
TZOFFSETFROM:-0500
TZOFFSETTO:-0400
TZNAME:EDT
END:DAYLIGHT
END:VTIMEZONE
END:VCALENDAR