BEGIN:VCALENDAR
VERSION:2.0
PRODID:-//wp-events-plugin.com//7.2.3.1//EN
TZID:America/New_York
X-WR-TIMEZONE:America/New_York
BEGIN:VEVENT
UID:155@adaptation-fund.org
DTSTART;TZID=America/New_York:20160607T060000
DTEND;TZID=America/New_York:20160607T060000
DTSTAMP:20260313T175645Z
URL:https://www.adaptation-fund.org/event/latin-america-and-the-caribbean-
 regional-workshop/
SUMMARY:Latin America and the Caribbean Regional Workshop
DESCRIPTION:Theme of the Latin America and the Caribbean Regional Workshop:
  Adaptation Fund project development and project full cycle.
CATEGORIES:Adaptation Fund Events
LOCATION:Tegucigalpa\, Honduras\, Tegucigalpa\, Honduras\, Tegucigalpa\, Ho
 nduras\, Francisco Morazan\, Honduras
X-APPLE-STRUCTURED-LOCATION;VALUE=URI;X-ADDRESS=Tegucigalpa\, Honduras\, Te
 gucigalpa\, Honduras\, Francisco Morazan\, Honduras;X-APPLE-RADIUS=100;X-T
 ITLE=Tegucigalpa\, Honduras:geo:0,0
END:VEVENT
BEGIN:VTIMEZONE
TZID:America/New_York
X-LIC-LOCATION:America/New_York
BEGIN:DAYLIGHT
DTSTART:20160313T030000
TZOFFSETFROM:-0500
TZOFFSETTO:-0400
TZNAME:EDT
END:DAYLIGHT
END:VTIMEZONE
END:VCALENDAR