BEGIN:VCALENDAR
VERSION:2.0
PRODID:-//wp-events-plugin.com//7.2.3.1//EN
TZID:America/New_York
X-WR-TIMEZONE:America/New_York
BEGIN:VEVENT
UID:28@adaptation-fund.org
DTSTART;TZID=America/New_York:20200521T144500
DTEND;TZID=America/New_York:20200521T170000
DTSTAMP:20260313T175644Z
URL:https://www.adaptation-fund.org/event/lessons-from-adaptation-leaders-
 a-grassroots-donor-dialogue-on-locally-led-action-co-organized-by-the-adap
 tation-fund-climate-wise-women-the-global-resilience-partnership-and-world
 -resources-insti/
SUMMARY:Lessons from Adaptation Leaders: A Grassroots-Donor Dialogue on Loc
 ally Led Action (Co-organized by the Adaptation Fund\, Climate Wise Women\
 , The Global Resilience Partnership and World Resources Institute)
DESCRIPTION:
CATEGORIES:Adaptation Fund Events
END:VEVENT
BEGIN:VTIMEZONE
TZID:America/New_York
X-LIC-LOCATION:America/New_York
BEGIN:DAYLIGHT
DTSTART:20200308T030000
TZOFFSETFROM:-0500
TZOFFSETTO:-0400
TZNAME:EDT
END:DAYLIGHT
END:VTIMEZONE
END:VCALENDAR