BEGIN:VCALENDAR
VERSION:2.0
PRODID:-//wp-events-plugin.com//7.2.3.1//EN
TZID:America/New_York
X-WR-TIMEZONE:America/New_York
BEGIN:VEVENT
UID:123@adaptation-fund.org
DTSTART;TZID=America/New_York:20141007T060000
DTEND;TZID=America/New_York:20141007T060000
DTSTAMP:20260313T175645Z
URL:https://www.adaptation-fund.org/event/meetings-of-the-adaptation-fund-
 board-committees/
SUMMARY:Meetings of the Adaptation Fund Board Committees
DESCRIPTION:
CATEGORIES:Adaptation Fund Events
LOCATION:UN Campus\, Bonn\, Germany\, Platz der Vereinten Nationen 1\, 5311
 3 Bonn\, Germany\, Bonn\, Germany\, 53113\, Nordrhein-Westfalen\, Germany
X-APPLE-STRUCTURED-LOCATION;VALUE=URI;X-ADDRESS=Platz der Vereinten Natione
 n 1\, 53113 Bonn\, Germany\, Bonn\, Germany\, 53113\, Nordrhein-Westfalen\
 , Germany;X-APPLE-RADIUS=100;X-TITLE=UN Campus\, Bonn\, Germany:geo:0,0
END:VEVENT
BEGIN:VTIMEZONE
TZID:America/New_York
X-LIC-LOCATION:America/New_York
BEGIN:DAYLIGHT
DTSTART:20140309T030000
TZOFFSETFROM:-0500
TZOFFSETTO:-0400
TZNAME:EDT
END:DAYLIGHT
END:VTIMEZONE
END:VCALENDAR