BEGIN:VCALENDAR
VERSION:2.0
PRODID:-//wp-events-plugin.com//7.2.3.1//EN
TZID:America/New_York
X-WR-TIMEZONE:America/New_York
BEGIN:VEVENT
UID:25@adaptation-fund.org
DTSTART;TZID=America/New_York:20200922T060000
DTEND;TZID=America/New_York:20200922T060000
DTSTAMP:20260313T175644Z
URL:https://www.adaptation-fund.org/event/project-development-training-for
 -nies-per-region/
SUMMARY:Project development training for NIEs per region
DESCRIPTION:
CATEGORIES:Adaptation Fund Events
END:VEVENT
BEGIN:VTIMEZONE
TZID:America/New_York
X-LIC-LOCATION:America/New_York
BEGIN:DAYLIGHT
DTSTART:20200308T030000
TZOFFSETFROM:-0500
TZOFFSETTO:-0400
TZNAME:EDT
END:DAYLIGHT
END:VTIMEZONE
END:VCALENDAR