BEGIN:VCALENDAR
VERSION:2.0
PRODID:-//wp-events-plugin.com//7.2.3.1//EN
TZID:America/New_York
X-WR-TIMEZONE:America/New_York
BEGIN:VEVENT
UID:135@adaptation-fund.org
DTSTART;TZID=America/New_York:20150921T060000
DTEND;TZID=America/New_York:20150921T060000
DTSTAMP:20260313T175645Z
URL:https://www.adaptation-fund.org/event/regional-climate-finance-readine
 ss-workshop/
SUMMARY:Regional Climate Finance Readiness Workshop
DESCRIPTION:Co-organized with the Economic Community of West African States
  and the Heinrich Boll Foundation. Read more about the event
CATEGORIES:Adaptation Fund Events
LOCATION:Abuja\, Nigeria\, Abuja\, Nigeria\, Abuja\, Nigeria\, Federal Capi
 tal Territory\, Nigeria
X-APPLE-STRUCTURED-LOCATION;VALUE=URI;X-ADDRESS=Abuja\, Nigeria\, Abuja\, N
 igeria\, Federal Capital Territory\, Nigeria;X-APPLE-RADIUS=100;X-TITLE=Ab
 uja\, Nigeria:geo:0,0
END:VEVENT
BEGIN:VTIMEZONE
TZID:America/New_York
X-LIC-LOCATION:America/New_York
BEGIN:DAYLIGHT
DTSTART:20150308T030000
TZOFFSETFROM:-0500
TZOFFSETTO:-0400
TZNAME:EDT
END:DAYLIGHT
END:VTIMEZONE
END:VCALENDAR