BEGIN:VCALENDAR
VERSION:2.0
PRODID:-//wp-events-plugin.com//7.2.3.1//EN
TZID:America/New_York
X-WR-TIMEZONE:America/New_York
BEGIN:VEVENT
UID:35@adaptation-fund.org
DTSTART;TZID=America/New_York:20200113T150000
DTEND;TZID=America/New_York:20200113T000000
DTSTAMP:20260313T175644Z
URL:https://www.adaptation-fund.org/event/submission-of-proposals-for-the-
 adaptation-fund-boards-considerations-at-its-35th-board-meeting-proposals-
 may-be-submitted-starting-from-january-13-2020/
SUMMARY:Submission of proposals for the Adaptation Fund Board's considerati
 ons at its 35th Board meeting (Proposals may be submitted starting from Ja
 nuary 13\, 2020)
DESCRIPTION:
END:VEVENT
BEGIN:VTIMEZONE
TZID:America/New_York
X-LIC-LOCATION:America/New_York
BEGIN:STANDARD
DTSTART:20191103T010000
TZOFFSETFROM:-0400
TZOFFSETTO:-0500
TZNAME:EST
END:STANDARD
END:VTIMEZONE
END:VCALENDAR