BEGIN:VCALENDAR
VERSION:2.0
PRODID:-//wp-events-plugin.com//7.2.3.1//EN
TZID:America/New_York
X-WR-TIMEZONE:America/New_York
BEGIN:VEVENT
UID:6@adaptation-fund.org
DTSTART;TZID=Pacific/Auckland:20251012T130000
DTEND;TZID=Pacific/Auckland:20251012T130000
DTSTAMP:20260313T175644Z
URL:https://www.adaptation-fund.org/event/the-8th-international-adaptation
 -futures-conference-af2025/
SUMMARY:The 8th international Adaptation Futures Conference (AF2025)
DESCRIPTION:The 8th international Adaptation Futures Conference (AF2025) wi
 ll be held in Ōtautahi Christchurch\, New Zealand from 13 to 16 October\,
  2025.\n\nMore information on the the conference website: adaptationfuture
 s2025.com.
CATEGORIES:Global Events
LOCATION:Ōtautahi Christchurch\, New Zealand\, \, 
X-APPLE-STRUCTURED-LOCATION;VALUE=URI;X-ADDRESS=\, ;X-APPLE-RADIUS=100;X-TI
 TLE=Ōtautahi Christchurch\, New Zealand:geo:0,0
END:VEVENT
BEGIN:VTIMEZONE
TZID:Pacific/Auckland
X-LIC-LOCATION:Pacific/Auckland
BEGIN:DAYLIGHT
DTSTART:20250928T030000
TZOFFSETFROM:+1200
TZOFFSETTO:+1300
TZNAME:NZDT
END:DAYLIGHT
END:VTIMEZONE
END:VCALENDAR