BEGIN:VCALENDAR
VERSION:2.0
PRODID:-//wp-events-plugin.com//7.2.3.1//EN
TZID:America/New_York
X-WR-TIMEZONE:America/New_York
BEGIN:VEVENT
UID:86@adaptation-fund.org
DTSTART;TZID=Europe/Berlin:20171106T000000
DTEND;TZID=Europe/Berlin:20171106T000000
DTSTAMP:20260313T175644Z
URL:https://www.adaptation-fund.org/event/un-climate-change-conference-cop
 -23-cmp-13-cma-1-2/
SUMMARY:UN Climate Change Conference COP 23 / CMP 13 / CMA 1.2
DESCRIPTION:The 2017 UN Climate Change Conference will take place from 6 to
  17 November at the World Conference Centre in Bonn\, Germany.\n\nInformat
 ion for the participants on the UNFCCC website &gt\;
CATEGORIES:Global Events
LOCATION:World Conference Centre\, Bonn\, Germany\, Bonn\, Germany\, Bonn\,
  Germany\, North Rhine-Westphalia\, Germany
X-APPLE-STRUCTURED-LOCATION;VALUE=URI;X-ADDRESS=Bonn\, Germany\, Bonn\, Ger
 many\, North Rhine-Westphalia\, Germany;X-APPLE-RADIUS=100;X-TITLE=World C
 onference Centre\, Bonn\, Germany:geo:0,0
END:VEVENT
BEGIN:VTIMEZONE
TZID:Europe/Berlin
X-LIC-LOCATION:Europe/Berlin
BEGIN:STANDARD
DTSTART:20171029T020000
TZOFFSETFROM:+0200
TZOFFSETTO:+0100
TZNAME:CET
END:STANDARD
END:VTIMEZONE
END:VCALENDAR