BEGIN:VCALENDAR
VERSION:2.0
PRODID:-//wp-events-plugin.com//7.2.3.1//EN
TZID:America/New_York
X-WR-TIMEZONE:America/New_York
BEGIN:VEVENT
UID:61@adaptation-fund.org
DTSTART;TZID=America/New_York:20181203T060000
DTEND;TZID=America/New_York:20181203T060000
DTSTAMP:20260313T175644Z
URL:https://www.adaptation-fund.org/event/un-climate-change-conference-cop
 -24-cmp-14-cma-1-3/
SUMMARY:UN Climate Change Conference COP 24 / CMP 14 / CMA 1.3
DESCRIPTION:The 24th session of the Conference of the Parties (COP 24) to t
 he UNFCCC will take place from 3-14 December 2018\, in Poland.\n\nLearn mo
 re &gt\;
CATEGORIES:Global Events
LOCATION:Katowice\, Poland\, Katowice\, Poland\, Katowice\, Poland\, 40\, S
 ilesian Voivodeship\, Poland
X-APPLE-STRUCTURED-LOCATION;VALUE=URI;X-ADDRESS=Katowice\, Poland\, Katowic
 e\, Poland\, 40\, Silesian Voivodeship\, Poland;X-APPLE-RADIUS=100;X-TITLE
 =Katowice\, Poland:geo:0,0
END:VEVENT
BEGIN:VTIMEZONE
TZID:America/New_York
X-LIC-LOCATION:America/New_York
BEGIN:STANDARD
DTSTART:20181104T010000
TZOFFSETFROM:-0400
TZOFFSETTO:-0500
TZNAME:EST
END:STANDARD
END:VTIMEZONE
END:VCALENDAR