BEGIN:VCALENDAR
VERSION:2.0
PRODID:-//wp-events-plugin.com//7.2.3.1//EN
TZID:America/New_York
X-WR-TIMEZONE:America/New_York
BEGIN:VEVENT
UID:110@adaptation-fund.org
DTSTART;TZID=America/New_York:20110905T060000
DTEND;TZID=America/New_York:20110905T060000
DTSTAMP:20260313T175645Z
URL:https://www.adaptation-fund.org/event/workshop-on-accreditation-of-nie
 s-for-the-africa-region/
SUMMARY:Workshop on Accreditation of NIEs for the Africa Region
DESCRIPTION:The Workshop to Familiarize Parties with the Process and the Re
 quirements for the Accreditation of National Implementing Entities for Dir
 ect Access under the Adaptation Fund for the Africa Region will be held in
  Mbour\, Senegal from 5 to 6 September 2011. The workshop is organized by 
 the UNFCCC secretariat\, in consultation with the Adaptation Fund Board\, 
 pursuant to decision 5/CMP.6 and in collaboration with the Government of S
 enegal.
CATEGORIES:Adaptation Fund Events
LOCATION:Mbour\, Senegal\, Mbour\, Senegal\, Mbour\, Senegal\, Thies\, Sene
 gal
X-APPLE-STRUCTURED-LOCATION;VALUE=URI;X-ADDRESS=Mbour\, Senegal\, Mbour\, S
 enegal\, Thies\, Senegal;X-APPLE-RADIUS=100;X-TITLE=Mbour\, Senegal:geo:0,
 0
END:VEVENT
BEGIN:VTIMEZONE
TZID:America/New_York
X-LIC-LOCATION:America/New_York
BEGIN:DAYLIGHT
DTSTART:20110313T030000
TZOFFSETFROM:-0500
TZOFFSETTO:-0400
TZNAME:EDT
END:DAYLIGHT
END:VTIMEZONE
END:VCALENDAR