BEGIN:VCALENDAR
VERSION:2.0
PRODID:-//wp-events-plugin.com//7.2.3.1//EN
TZID:America/New_York
X-WR-TIMEZONE:America/New_York
BEGIN:VEVENT
UID:118@adaptation-fund.org
DTSTART;TZID=America/New_York:20120319T050000
DTEND;TZID=America/New_York:20120319T050000
DTSTAMP:20260313T175645Z
URL:https://www.adaptation-fund.org/event/workshop-on-accreditation-of-nie
 s-for-the-asia-and-eastern-europe-region/
SUMMARY:Workshop on Accreditation of NIEs for the Asia and Eastern Europe R
 egion
DESCRIPTION:The Workshop to Familiarize Parties with the Process and the Re
 quirements for the Accreditation of National Implementing Entities for Dir
 ect Access under the Adaptation Fund for the Asia and Eastern Europe Regi
 on was held at the Hotel Peninsula in Manila\, Philippines from 19 to 21
  March 2012. The workshop was organized by the UNFCCC secretariat\, in con
 sultation with the Adaptation Fund Board\, pursuant to decision 5/CMP.6 an
 d in collaboration with the Government of Philippines.
CATEGORIES:Adaptation Fund Events
LOCATION:Manila\, Philippines\, Manila\, Metro Manila\, Philippines\, Manil
 a\, Philippines\, Metro Manila\, Philippines
X-APPLE-STRUCTURED-LOCATION;VALUE=URI;X-ADDRESS=Manila\, Metro Manila\, Phi
 lippines\, Manila\, Philippines\, Metro Manila\, Philippines;X-APPLE-RADIU
 S=100;X-TITLE=Manila\, Philippines:geo:0,0
END:VEVENT
BEGIN:VTIMEZONE
TZID:America/New_York
X-LIC-LOCATION:America/New_York
BEGIN:DAYLIGHT
DTSTART:20120311T030000
TZOFFSETFROM:-0500
TZOFFSETTO:-0400
TZNAME:EDT
END:DAYLIGHT
END:VTIMEZONE
END:VCALENDAR