BEGIN:VCALENDAR
VERSION:2.0
PRODID:-//wp-events-plugin.com//7.2.3.1//EN
TZID:America/New_York
X-WR-TIMEZONE:America/New_York
BEGIN:VEVENT
UID:113@adaptation-fund.org
DTSTART;TZID=America/New_York:20111110T060000
DTEND;TZID=America/New_York:20111110T060000
DTSTAMP:20260313T175645Z
URL:https://www.adaptation-fund.org/event/workshop-on-accreditation-of-nie
 s-for-the-latin-america-and-caribbean-region/
SUMMARY:Workshop on Accreditation of NIEs for the Latin America and Caribbe
 an Region
DESCRIPTION:The Workshop to Familiarize Parties with the Process and the Re
 quirements for the Accreditation of National Implementing Entities for Dir
 ect Access under the Adaptation Fund for the Latin America and the Caribb
 ean Region will be held in Panama City\, Panama from 10 to 12 Novembe
 r 2011. The workshop is organized by the UNFCCC secretariat\, in consultat
 ion with the Adaptation Fund Board\, pursuant to decision 5/CMP.6 and in c
 ollaboration with the Government of Panama.
CATEGORIES:Adaptation Fund Events
LOCATION:Panama City\, Panama City\, Panama\, Panama City\, Panama\, Panama
 \, Panama
X-APPLE-STRUCTURED-LOCATION;VALUE=URI;X-ADDRESS=Panama City\, Panama\, Pana
 ma City\, Panama\, Panama\, Panama;X-APPLE-RADIUS=100;X-TITLE=Panama City:
 geo:0,0
END:VEVENT
BEGIN:VTIMEZONE
TZID:America/New_York
X-LIC-LOCATION:America/New_York
BEGIN:STANDARD
DTSTART:20111106T010000
TZOFFSETFROM:-0400
TZOFFSETTO:-0500
TZNAME:EST
END:STANDARD
END:VTIMEZONE
END:VCALENDAR