BEGIN:VCALENDAR
VERSION:2.0
PRODID:-//wp-events-plugin.com//7.2.3.1//EN
TZID:America/New_York
X-WR-TIMEZONE:America/New_York
BEGIN:VEVENT
UID:119@adaptation-fund.org
DTSTART;TZID=America/New_York:20120423T060000
DTEND;TZID=America/New_York:20120423T060000
DTSTAMP:20260313T175645Z
URL:https://www.adaptation-fund.org/event/workshop-on-accreditation-of-nie
 s-for-the-pacific-region/
SUMMARY:Workshop on Accreditation of NIEs for the Pacific Region
DESCRIPTION:The Workshop to Familiarize Parties with the Process and the Re
 quirements for the Accreditation of National Implementing Entities for Dir
 ect Access under the Adaptation Fund for the Pacific Region was held at 
 the Samoa Conference Center in Apia\, Samoa from 23 to 25 April 2012. Th
 e workshop was organized by the UNFCCC secretariat\, in consultation with
  the Adaptation Fund Board\, pursuant to decision 5/CMP.6 and in collabora
 tion with the Government of Samoa.\n
CATEGORIES:Adaptation Fund Events
LOCATION:Apia\, Samoa\, Apia\, Samoa\, Apia\, Samoa\, Upolu\, Samoa
X-APPLE-STRUCTURED-LOCATION;VALUE=URI;X-ADDRESS=Apia\, Samoa\, Apia\, Samoa
 \, Upolu\, Samoa;X-APPLE-RADIUS=100;X-TITLE=Apia\, Samoa:geo:0,0
END:VEVENT
BEGIN:VTIMEZONE
TZID:America/New_York
X-LIC-LOCATION:America/New_York
BEGIN:DAYLIGHT
DTSTART:20120311T030000
TZOFFSETFROM:-0500
TZOFFSETTO:-0400
TZNAME:EDT
END:DAYLIGHT
END:VTIMEZONE
END:VCALENDAR